BEGIN:VCALENDAR
VERSION:2.0
PRODID:-//Library Market//iCal Export//EN
BEGIN:VEVENT
SUMMARY:Triple P Parenting Workshop: Helping Children Develop Healthy Scre
 en Time Habits
UID:15010
DTSTAMP:20260420T160400Z
DTSTART:20260527T170000Z
DTEND:20260527T183000Z
LOCATION:Patrick Beaver Memorial Library, 375 3rd St. NE, Hickory, NC 2860
 1, United States
ROOM: Meeting Room
DESCRIPTION:Struggling with screen time? Discover practical, positive stra
 tegies to manage children’s screen time! Learn how to set limits, suppor
 t routines, and encourage positive behavior through the Triple P Positive 
 Parenting Program framework. Recommended for parents of children ages 0-1
 2. 
URL:https://hickory.librarycalendar.com/event/triple-p-parenting-workshop-
 15010
END:VEVENT
END:VCALENDAR
