BEGIN:VCALENDAR
VERSION:2.0
PRODID:-//Library Market//iCal Export//EN
BEGIN:VEVENT
SUMMARY:Herby Focaccia Bread Baking Class
UID:14908
DTSTAMP:20260423T120500Z
DTSTART:20260622T220000Z
DTEND:20260622T233000Z
LOCATION:Patrick Beaver Memorial Library, 375 3rd St. NE, Hickory, NC 2860
 1, United States
ROOM: Meeting Room
DESCRIPTION:Learn how to create a simple, crowd-pleasing summer focaccia b
 read that features home-grown cherry tomatoes and summer herbs. Attendees 
 will sample freshly baked focaccia bread and take home tomatoes and herbs 
 from True Cut Ranch to make bread at home. Presented by Melissa Falcone fr
 om True Cut Ranch and The READY Pantry.  
URL:https://hickory.librarycalendar.com/event/herby-focaccia-bread-baking-
 class-14908
END:VEVENT
END:VCALENDAR
