BEGIN:VCALENDAR
VERSION:2.0
PRODID:-//Library Market//iCal Export//EN
BEGIN:VEVENT
SUMMARY:Addressing Anxiety and Depression in Older Adults: Part 2 – Copi
 ng Skills
UID:14386
DTSTAMP:20260422T050000Z
DTSTART:20260820T180000Z
DTEND:20260820T190000Z
LOCATION:Patrick Beaver Memorial Library, 375 3rd St. NE, Hickory, NC 2860
 1, United States
ROOM: Conference Room
DESCRIPTION:Join the staff of Partners for courses on mental health topics
  the third Thursday of each month at 2:00 pm. Continuing Education hours c
 an be provided.August topic: Addressing Anxiety and Depression in Older Ad
 ults: Part 2 – Coping Skills Changes in physical health, social isolati
 on and losses as we age can result in depression and anxiety. Join us for 
 a discussion of the differences between sadness and depression, worry and 
 anxiety. Coping strategies for both disorders are discussed.
URL:https://hickory.librarycalendar.com/event/dementia-understanding-behav
 ior-changes-and-challenges-14386
END:VEVENT
END:VCALENDAR
