BEGIN:VCALENDAR
VERSION:2.0
PRODID:-//Library Market//iCal Export//EN
BEGIN:VEVENT
SUMMARY:Community Threads
UID:14342
DTSTAMP:20260420T160400Z
DTSTART:20260803T220000Z
DTEND:20260803T230000Z
LOCATION:Patrick Beaver Memorial Library, 375 3rd St. NE, Hickory, NC 2860
 1, United States
ROOM: The Learning Lab
DESCRIPTION:Explore a new fiber arts hobby in The Learning Lab with a hand
 s-on demonstration. Experiment with any of our other fiber arts tools or b
 ring your own project to work on alongside your fellow fiber enthusiasts.Â
  August Focus: Weaving
URL:https://hickory.librarycalendar.com/event/community-threads-14342
END:VEVENT
END:VCALENDAR
