BEGIN:VCALENDAR
VERSION:2.0
PRODID:-//Library Market//iCal Export//EN
BEGIN:VEVENT
SUMMARY:Ice Cream Physics
UID:14035
DTSTAMP:20260421T141900Z
DTSTART:20260710T140000Z
DTEND:20260710T150000Z
LOCATION:Patrick Beaver Memorial Library, 375 3rd St. NE, Hickory, NC 2860
 1, United States
ROOM: Library Outdoor Stage
DESCRIPTION:In this physics activity, you will make your own ice cream in 
 a bag! Try out a little science in the kitchen and turn liquids into solid
 s in a tasty experiment. Disclaimer: dairy will be used in this program. 
 This program is gluten free. In case of inclement weather, we will movethe
  program indoors.Please sign up for everyone in attendance, including chil
 dren and caregivers. 
URL:https://hickory.librarycalendar.com/event/tbd-ice-cream-physics-14035
END:VEVENT
END:VCALENDAR
